BEGIN:VCALENDAR
VERSION:2.0
PRODID:-//Fayyaz Sumbal Foundation - ECPv4.2.6//NONSGML v1.0//EN
CALSCALE:GREGORIAN
METHOD:PUBLISH
X-WR-CALNAME:Fayyaz Sumbal Foundation
X-ORIGINAL-URL:https://fayyazsumbalfoundation.org
X-WR-CALDESC:Events for Fayyaz Sumbal Foundation
BEGIN:VEVENT
DTSTART;TZID=UTC+0:20210109T120000
DTEND;TZID=UTC+0:20210109T160000
DTSTAMP:20260424T014838
CREATED:20201124T062939
LAST-MODIFIED:20201124T063450
UID:3197-1610193600-1610208000@fayyazsumbalfoundation.org
SUMMARY:2021 POLICE COMMUNITY CUP - BOWRAL OVAL
DESCRIPTION:Save the date! Our signature event will be held at Bowral Oval on the 9th of January 2021. More info to come\, please email info@fayyazsumbalfoundation.org if you would like to get involved.\n\n 
URL:https://fayyazsumbalfoundation.org/events/2021-police-community-cup-bowral-oval/
LOCATION:9/11 St Jude St\, Bowral NSW 2576\, Bowral 2576\, NSW\, 2576\, Australia
ATTACH;FMTTYPE=image/jpeg:https://fayyazsumbalfoundation.org/wp-content/uploads/2016/02/perth-2.jpg
END:VEVENT
END:VCALENDAR