BEGIN:VCALENDAR
VERSION:2.0
PRODID:-//Fayyaz Sumbal Foundation - ECPv4.2.6//NONSGML v1.0//EN
CALSCALE:GREGORIAN
METHOD:PUBLISH
X-WR-CALNAME:Fayyaz Sumbal Foundation
X-ORIGINAL-URL:https://fayyazsumbalfoundation.org
X-WR-CALDESC:Events for Fayyaz Sumbal Foundation
BEGIN:VEVENT
DTSTART;TZID=Australia/Sydney:20220311T093000
DTEND;TZID=Australia/Sydney:20220311T093000
DTSTAMP:20260423T232140
CREATED:20220308T104519
LAST-MODIFIED:20220308T104519
UID:3207-1646991000-1646991000@fayyazsumbalfoundation.org
SUMMARY:2022 COMMUNITY CUP
DESCRIPTION:\n\n 
URL:https://fayyazsumbalfoundation.org/events/2022-community-cup/
LOCATION:9/11 St Jude St\, Bowral NSW 2576\, Bowral 2576\, NSW\, 2576\, Australia
CATEGORIES:Events
END:VEVENT
END:VCALENDAR